BEGIN:VCALENDAR
CALSCALE:GREGORIAN
VERSION:2.0
METHOD:PUBLISH 
X-WR-CALNAME:
BEGIN:VEVENT
DTSTART;TZID=Europe/Paris:20260425T183000
DTEND;TZID=Europe/Paris:20260425T193000
SUMMARY:Élection de Modèle Élégance France 2026
CATEGORIE:Spectacles et Théâtre
GEO:44.15463600000000;4.08473400000000
LOCATION:Espace la Fare Alais\, 102 avenue Marcel Paul\, 30520 Saint-Martin-de-Valgalgues\, France
URL:https://www.fest.fr/e/2398249
UID:2398249-1@fest.fr
END:VEVENT
END:VCALENDAR
