BEGIN:VCALENDAR
CALSCALE:GREGORIAN
VERSION:2.0
METHOD:PUBLISH 
X-WR-CALNAME:
BEGIN:VEVENT
DTSTART;TZID=Europe/Paris:20260418T100000
DTEND;TZID=Europe/Paris:20260418T110000
SUMMARY:Culturiosity* Samedi 18 avril, 10h à la médiathèque, en english please !
CATEGORIE:Conférences, Forums et Débats
GEO:43.83014000000000;1.43146900000000
LOCATION:médiathèque de Villaudric\, place emile bordes  villaudric\, 31620 Villaudric\, France
URL:https://www.fest.fr/e/2398161
UID:2398161-1@fest.fr
END:VEVENT
END:VCALENDAR
