BEGIN:VCALENDAR
CALSCALE:GREGORIAN
VERSION:2.0
METHOD:PUBLISH 
X-WR-CALNAME:
BEGIN:VEVENT
DTSTART;TZID=Europe/Paris:20260404T140000
DTEND;TZID=Europe/Paris:20260404T150000
SUMMARY:Exposition Entre les Mondes au Musée GRATALOUP
CATEGORIE:Expositions, Visites et Découvertes
GEO:48.70791493795500;2.03989267349200
LOCATION:Musée Grataloup Centre d'art Contemporain\, 3 rue de l'Eglise\, 78460 Chevreuse\, France
URL:https://www.fest.fr/e/2398094
UID:2398094-1@fest.fr
END:VEVENT
BEGIN:VEVENT
DTSTART;TZID=Europe/Paris:20260405T140000
DTEND;TZID=Europe/Paris:20260405T150000
SUMMARY:Exposition Entre les Mondes au Musée GRATALOUP
CATEGORIE:Expositions, Visites et Découvertes
GEO:48.70791493795500;2.03989267349200
LOCATION:Musée Grataloup Centre d'art Contemporain\, 3 rue de l'Eglise\, 78460 Chevreuse\, France
URL:https://www.fest.fr/e/2398094
UID:2398094-2@fest.fr
END:VEVENT
BEGIN:VEVENT
DTSTART;TZID=Europe/Paris:20260408T140000
DTEND;TZID=Europe/Paris:20260408T150000
SUMMARY:Exposition Entre les Mondes au Musée GRATALOUP
CATEGORIE:Expositions, Visites et Découvertes
GEO:48.70791493795500;2.03989267349200
LOCATION:Musée Grataloup Centre d'art Contemporain\, 3 rue de l'Eglise\, 78460 Chevreuse\, France
URL:https://www.fest.fr/e/2398094
UID:2398094-3@fest.fr
END:VEVENT
BEGIN:VEVENT
DTSTART;TZID=Europe/Paris:20260409T140000
DTEND;TZID=Europe/Paris:20260409T150000
SUMMARY:Exposition Entre les Mondes au Musée GRATALOUP
CATEGORIE:Expositions, Visites et Découvertes
GEO:48.70791493795500;2.03989267349200
LOCATION:Musée Grataloup Centre d'art Contemporain\, 3 rue de l'Eglise\, 78460 Chevreuse\, France
URL:https://www.fest.fr/e/2398094
UID:2398094-4@fest.fr
END:VEVENT
BEGIN:VEVENT
DTSTART;TZID=Europe/Paris:20260410T140000
DTEND;TZID=Europe/Paris:20260410T150000
SUMMARY:Exposition Entre les Mondes au Musée GRATALOUP
CATEGORIE:Expositions, Visites et Découvertes
GEO:48.70791493795500;2.03989267349200
LOCATION:Musée Grataloup Centre d'art Contemporain\, 3 rue de l'Eglise\, 78460 Chevreuse\, France
URL:https://www.fest.fr/e/2398094
UID:2398094-5@fest.fr
END:VEVENT
BEGIN:VEVENT
DTSTART;TZID=Europe/Paris:20260411T140000
DTEND;TZID=Europe/Paris:20260411T150000
SUMMARY:Exposition Entre les Mondes au Musée GRATALOUP
CATEGORIE:Expositions, Visites et Découvertes
GEO:48.70791493795500;2.03989267349200
LOCATION:Musée Grataloup Centre d'art Contemporain\, 3 rue de l'Eglise\, 78460 Chevreuse\, France
URL:https://www.fest.fr/e/2398094
UID:2398094-6@fest.fr
END:VEVENT
BEGIN:VEVENT
DTSTART;TZID=Europe/Paris:20260412T140000
DTEND;TZID=Europe/Paris:20260412T150000
SUMMARY:Exposition Entre les Mondes au Musée GRATALOUP
CATEGORIE:Expositions, Visites et Découvertes
GEO:48.70791493795500;2.03989267349200
LOCATION:Musée Grataloup Centre d'art Contemporain\, 3 rue de l'Eglise\, 78460 Chevreuse\, France
URL:https://www.fest.fr/e/2398094
UID:2398094-7@fest.fr
END:VEVENT
BEGIN:VEVENT
DTSTART;TZID=Europe/Paris:20260415T140000
DTEND;TZID=Europe/Paris:20260415T150000
SUMMARY:Exposition Entre les Mondes au Musée GRATALOUP
CATEGORIE:Expositions, Visites et Découvertes
GEO:48.70791493795500;2.03989267349200
LOCATION:Musée Grataloup Centre d'art Contemporain\, 3 rue de l'Eglise\, 78460 Chevreuse\, France
URL:https://www.fest.fr/e/2398094
UID:2398094-8@fest.fr
END:VEVENT
BEGIN:VEVENT
DTSTART;TZID=Europe/Paris:20260416T140000
DTEND;TZID=Europe/Paris:20260416T150000
SUMMARY:Exposition Entre les Mondes au Musée GRATALOUP
CATEGORIE:Expositions, Visites et Découvertes
GEO:48.70791493795500;2.03989267349200
LOCATION:Musée Grataloup Centre d'art Contemporain\, 3 rue de l'Eglise\, 78460 Chevreuse\, France
URL:https://www.fest.fr/e/2398094
UID:2398094-9@fest.fr
END:VEVENT
BEGIN:VEVENT
DTSTART;TZID=Europe/Paris:20260417T140000
DTEND;TZID=Europe/Paris:20260417T150000
SUMMARY:Exposition Entre les Mondes au Musée GRATALOUP
CATEGORIE:Expositions, Visites et Découvertes
GEO:48.70791493795500;2.03989267349200
LOCATION:Musée Grataloup Centre d'art Contemporain\, 3 rue de l'Eglise\, 78460 Chevreuse\, France
URL:https://www.fest.fr/e/2398094
UID:2398094-10@fest.fr
END:VEVENT
BEGIN:VEVENT
DTSTART;TZID=Europe/Paris:20260418T140000
DTEND;TZID=Europe/Paris:20260418T150000
SUMMARY:Exposition Entre les Mondes au Musée GRATALOUP
CATEGORIE:Expositions, Visites et Découvertes
GEO:48.70791493795500;2.03989267349200
LOCATION:Musée Grataloup Centre d'art Contemporain\, 3 rue de l'Eglise\, 78460 Chevreuse\, France
URL:https://www.fest.fr/e/2398094
UID:2398094-11@fest.fr
END:VEVENT
BEGIN:VEVENT
DTSTART;TZID=Europe/Paris:20260419T140000
DTEND;TZID=Europe/Paris:20260419T150000
SUMMARY:Exposition Entre les Mondes au Musée GRATALOUP
CATEGORIE:Expositions, Visites et Découvertes
GEO:48.70791493795500;2.03989267349200
LOCATION:Musée Grataloup Centre d'art Contemporain\, 3 rue de l'Eglise\, 78460 Chevreuse\, France
URL:https://www.fest.fr/e/2398094
UID:2398094-12@fest.fr
END:VEVENT
BEGIN:VEVENT
DTSTART;TZID=Europe/Paris:20260422T140000
DTEND;TZID=Europe/Paris:20260422T150000
SUMMARY:Exposition Entre les Mondes au Musée GRATALOUP
CATEGORIE:Expositions, Visites et Découvertes
GEO:48.70791493795500;2.03989267349200
LOCATION:Musée Grataloup Centre d'art Contemporain\, 3 rue de l'Eglise\, 78460 Chevreuse\, France
URL:https://www.fest.fr/e/2398094
UID:2398094-13@fest.fr
END:VEVENT
BEGIN:VEVENT
DTSTART;TZID=Europe/Paris:20260423T140000
DTEND;TZID=Europe/Paris:20260423T150000
SUMMARY:Exposition Entre les Mondes au Musée GRATALOUP
CATEGORIE:Expositions, Visites et Découvertes
GEO:48.70791493795500;2.03989267349200
LOCATION:Musée Grataloup Centre d'art Contemporain\, 3 rue de l'Eglise\, 78460 Chevreuse\, France
URL:https://www.fest.fr/e/2398094
UID:2398094-14@fest.fr
END:VEVENT
BEGIN:VEVENT
DTSTART;TZID=Europe/Paris:20260424T140000
DTEND;TZID=Europe/Paris:20260424T150000
SUMMARY:Exposition Entre les Mondes au Musée GRATALOUP
CATEGORIE:Expositions, Visites et Découvertes
GEO:48.70791493795500;2.03989267349200
LOCATION:Musée Grataloup Centre d'art Contemporain\, 3 rue de l'Eglise\, 78460 Chevreuse\, France
URL:https://www.fest.fr/e/2398094
UID:2398094-15@fest.fr
END:VEVENT
BEGIN:VEVENT
DTSTART;TZID=Europe/Paris:20260425T140000
DTEND;TZID=Europe/Paris:20260425T150000
SUMMARY:Exposition Entre les Mondes au Musée GRATALOUP
CATEGORIE:Expositions, Visites et Découvertes
GEO:48.70791493795500;2.03989267349200
LOCATION:Musée Grataloup Centre d'art Contemporain\, 3 rue de l'Eglise\, 78460 Chevreuse\, France
URL:https://www.fest.fr/e/2398094
UID:2398094-16@fest.fr
END:VEVENT
BEGIN:VEVENT
DTSTART;TZID=Europe/Paris:20260426T140000
DTEND;TZID=Europe/Paris:20260426T150000
SUMMARY:Exposition Entre les Mondes au Musée GRATALOUP
CATEGORIE:Expositions, Visites et Découvertes
GEO:48.70791493795500;2.03989267349200
LOCATION:Musée Grataloup Centre d'art Contemporain\, 3 rue de l'Eglise\, 78460 Chevreuse\, France
URL:https://www.fest.fr/e/2398094
UID:2398094-17@fest.fr
END:VEVENT
BEGIN:VEVENT
DTSTART;TZID=Europe/Paris:20260429T140000
DTEND;TZID=Europe/Paris:20260429T150000
SUMMARY:Exposition Entre les Mondes au Musée GRATALOUP
CATEGORIE:Expositions, Visites et Découvertes
GEO:48.70791493795500;2.03989267349200
LOCATION:Musée Grataloup Centre d'art Contemporain\, 3 rue de l'Eglise\, 78460 Chevreuse\, France
URL:https://www.fest.fr/e/2398094
UID:2398094-18@fest.fr
END:VEVENT
BEGIN:VEVENT
DTSTART;TZID=Europe/Paris:20260430T140000
DTEND;TZID=Europe/Paris:20260430T150000
SUMMARY:Exposition Entre les Mondes au Musée GRATALOUP
CATEGORIE:Expositions, Visites et Découvertes
GEO:48.70791493795500;2.03989267349200
LOCATION:Musée Grataloup Centre d'art Contemporain\, 3 rue de l'Eglise\, 78460 Chevreuse\, France
URL:https://www.fest.fr/e/2398094
UID:2398094-19@fest.fr
END:VEVENT
BEGIN:VEVENT
DTSTART;TZID=Europe/Paris:20260501T140000
DTEND;TZID=Europe/Paris:20260501T150000
SUMMARY:Exposition Entre les Mondes au Musée GRATALOUP
CATEGORIE:Expositions, Visites et Découvertes
GEO:48.70791493795500;2.03989267349200
LOCATION:Musée Grataloup Centre d'art Contemporain\, 3 rue de l'Eglise\, 78460 Chevreuse\, France
URL:https://www.fest.fr/e/2398094
UID:2398094-20@fest.fr
END:VEVENT
BEGIN:VEVENT
DTSTART;TZID=Europe/Paris:20260502T140000
DTEND;TZID=Europe/Paris:20260502T150000
SUMMARY:Exposition Entre les Mondes au Musée GRATALOUP
CATEGORIE:Expositions, Visites et Découvertes
GEO:48.70791493795500;2.03989267349200
LOCATION:Musée Grataloup Centre d'art Contemporain\, 3 rue de l'Eglise\, 78460 Chevreuse\, France
URL:https://www.fest.fr/e/2398094
UID:2398094-21@fest.fr
END:VEVENT
BEGIN:VEVENT
DTSTART;TZID=Europe/Paris:20260503T140000
DTEND;TZID=Europe/Paris:20260503T150000
SUMMARY:Exposition Entre les Mondes au Musée GRATALOUP
CATEGORIE:Expositions, Visites et Découvertes
GEO:48.70791493795500;2.03989267349200
LOCATION:Musée Grataloup Centre d'art Contemporain\, 3 rue de l'Eglise\, 78460 Chevreuse\, France
URL:https://www.fest.fr/e/2398094
UID:2398094-22@fest.fr
END:VEVENT
BEGIN:VEVENT
DTSTART;TZID=Europe/Paris:20260506T140000
DTEND;TZID=Europe/Paris:20260506T150000
SUMMARY:Exposition Entre les Mondes au Musée GRATALOUP
CATEGORIE:Expositions, Visites et Découvertes
GEO:48.70791493795500;2.03989267349200
LOCATION:Musée Grataloup Centre d'art Contemporain\, 3 rue de l'Eglise\, 78460 Chevreuse\, France
URL:https://www.fest.fr/e/2398094
UID:2398094-23@fest.fr
END:VEVENT
BEGIN:VEVENT
DTSTART;TZID=Europe/Paris:20260507T140000
DTEND;TZID=Europe/Paris:20260507T150000
SUMMARY:Exposition Entre les Mondes au Musée GRATALOUP
CATEGORIE:Expositions, Visites et Découvertes
GEO:48.70791493795500;2.03989267349200
LOCATION:Musée Grataloup Centre d'art Contemporain\, 3 rue de l'Eglise\, 78460 Chevreuse\, France
URL:https://www.fest.fr/e/2398094
UID:2398094-24@fest.fr
END:VEVENT
BEGIN:VEVENT
DTSTART;TZID=Europe/Paris:20260508T140000
DTEND;TZID=Europe/Paris:20260508T150000
SUMMARY:Exposition Entre les Mondes au Musée GRATALOUP
CATEGORIE:Expositions, Visites et Découvertes
GEO:48.70791493795500;2.03989267349200
LOCATION:Musée Grataloup Centre d'art Contemporain\, 3 rue de l'Eglise\, 78460 Chevreuse\, France
URL:https://www.fest.fr/e/2398094
UID:2398094-25@fest.fr
END:VEVENT
BEGIN:VEVENT
DTSTART;TZID=Europe/Paris:20260509T140000
DTEND;TZID=Europe/Paris:20260509T150000
SUMMARY:Exposition Entre les Mondes au Musée GRATALOUP
CATEGORIE:Expositions, Visites et Découvertes
GEO:48.70791493795500;2.03989267349200
LOCATION:Musée Grataloup Centre d'art Contemporain\, 3 rue de l'Eglise\, 78460 Chevreuse\, France
URL:https://www.fest.fr/e/2398094
UID:2398094-26@fest.fr
END:VEVENT
BEGIN:VEVENT
DTSTART;TZID=Europe/Paris:20260510T140000
DTEND;TZID=Europe/Paris:20260510T150000
SUMMARY:Exposition Entre les Mondes au Musée GRATALOUP
CATEGORIE:Expositions, Visites et Découvertes
GEO:48.70791493795500;2.03989267349200
LOCATION:Musée Grataloup Centre d'art Contemporain\, 3 rue de l'Eglise\, 78460 Chevreuse\, France
URL:https://www.fest.fr/e/2398094
UID:2398094-27@fest.fr
END:VEVENT
BEGIN:VEVENT
DTSTART;TZID=Europe/Paris:20260513T140000
DTEND;TZID=Europe/Paris:20260513T150000
SUMMARY:Exposition Entre les Mondes au Musée GRATALOUP
CATEGORIE:Expositions, Visites et Découvertes
GEO:48.70791493795500;2.03989267349200
LOCATION:Musée Grataloup Centre d'art Contemporain\, 3 rue de l'Eglise\, 78460 Chevreuse\, France
URL:https://www.fest.fr/e/2398094
UID:2398094-28@fest.fr
END:VEVENT
BEGIN:VEVENT
DTSTART;TZID=Europe/Paris:20260514T140000
DTEND;TZID=Europe/Paris:20260514T150000
SUMMARY:Exposition Entre les Mondes au Musée GRATALOUP
CATEGORIE:Expositions, Visites et Découvertes
GEO:48.70791493795500;2.03989267349200
LOCATION:Musée Grataloup Centre d'art Contemporain\, 3 rue de l'Eglise\, 78460 Chevreuse\, France
URL:https://www.fest.fr/e/2398094
UID:2398094-29@fest.fr
END:VEVENT
END:VCALENDAR
