BEGIN:VCALENDAR
CALSCALE:GREGORIAN
VERSION:2.0
METHOD:PUBLISH 
X-WR-CALNAME:
BEGIN:VEVENT
DTSTART;TZID=Europe/Paris:20260514T100000
DTEND;TZID=Europe/Paris:20260514T110000
SUMMARY:ARTISTES À SUIVRE 2026 - VIGNOBLE NICOLAS THÉREZ
CATEGORIE:Fêtes et Animations
GEO:42.94622050000000;2.32340180000000
LOCATION:2 route d’Arques\, 11190 Serres\, France
URL:https://www.fest.fr/e/2397798
UID:2397798-1@fest.fr
END:VEVENT
END:VCALENDAR
