BEGIN:VCALENDAR
CALSCALE:GREGORIAN
VERSION:2.0
METHOD:PUBLISH 
X-WR-CALNAME:
BEGIN:VEVENT
DTSTART;TZID=Europe/Paris:20260811T143000
DTEND;TZID=Europe/Paris:20260811T153000
SUMMARY:Animation pêche - Je pêche mon premier poisson
CATEGORIE:Stages, Ateliers et Initiations
GEO:48.21494250000000;-2.93819030000000
LOCATION:Etang de découverte près du bourg
Saint-Guen\, 22530 Guerlédan\, France
URL:https://www.fest.fr/e/2397737
UID:2397737-1@fest.fr
END:VEVENT
END:VCALENDAR
