BEGIN:VCALENDAR
CALSCALE:GREGORIAN
VERSION:2.0
METHOD:PUBLISH 
X-WR-CALNAME:
BEGIN:VEVENT
DTSTART;TZID=Europe/Paris:20260531T090000
DTEND;TZID=Europe/Paris:20260531T100000
SUMMARY:Vide Grenier de Saint-Cyr
CATEGORIE:Brocantes, Bourses et Vide-Greniers
GEO:48.79525600000000;2.05660700000000
LOCATION:parc Maurice Leluc\, Boulevard Henri Barbusse \, 78210 Saint-Cyr-l'École\, France
URL:https://www.fest.fr/e/2397499
UID:2397499-1@fest.fr
END:VEVENT
END:VCALENDAR
