BEGIN:VCALENDAR
CALSCALE:GREGORIAN
VERSION:2.0
METHOD:PUBLISH 
X-WR-CALNAME:
BEGIN:VEVENT
DTSTART;TZID=Europe/Paris:20260516T100000
DTEND;TZID=Europe/Paris:20260516T110000
SUMMARY:Au château des cigognes
CATEGORIE:Expositions, Visites et Découvertes
GEO:49.24498000000000;-1.11546100000000
LOCATION:Château de la Rivière\, 50620 Saint-Fromond\, France
URL:https://www.fest.fr/e/2397321
UID:2397321-1@fest.fr
END:VEVENT
END:VCALENDAR
