BEGIN:VCALENDAR
CALSCALE:GREGORIAN
VERSION:2.0
METHOD:PUBLISH 
X-WR-CALNAME:
BEGIN:VEVENT
DTSTART;TZID=Europe/Paris:20261004T143000
DTEND;TZID=Europe/Paris:20261004T153000
SUMMARY:Balade tranquille à vélo
CATEGORIE:Randonnées et balades
GEO:48.83769530000000;-1.57745310000000
LOCATION:Place du 11 Novembre 1918
Place du marché du mercredi matin\, 50400 Granville\, France
URL:https://www.fest.fr/e/2397168
UID:2397168-1@fest.fr
END:VEVENT
END:VCALENDAR
