BEGIN:VCALENDAR
CALSCALE:GREGORIAN
VERSION:2.0
METHOD:PUBLISH 
X-WR-CALNAME:
BEGIN:VEVENT
DTSTART;TZID=Europe/Paris:20260606T100000
DTEND;TZID=Europe/Paris:20260606T110000
SUMMARY:Descente de Caisses à savon
CATEGORIE:Sports
GEO:45.31495600000000;-0.54012900000000
LOCATION:le Bourg\, 17150 Boisredon\, France
URL:https://www.fest.fr/e/2396827
UID:2396827-1@fest.fr
END:VEVENT
END:VCALENDAR
