BEGIN:VCALENDAR
CALSCALE:GREGORIAN
VERSION:2.0
METHOD:PUBLISH 
X-WR-CALNAME:
BEGIN:VEVENT
DTSTART;TZID=Europe/Paris:20260529T210000
DTEND;TZID=Europe/Paris:20260529T220000
SUMMARY:Manoir de Haubourg
CATEGORIE:Expositions, Visites et Découvertes
GEO:49.33157100000000;-1.28413840000000
LOCATION:2 rue Mary
SAINT COME DU MONT\, 50500 Carentan-les-Marais\, France
URL:https://www.fest.fr/e/2384447
UID:2384447-1@fest.fr
END:VEVENT
END:VCALENDAR
