BEGIN:VCALENDAR
CALSCALE:GREGORIAN
VERSION:2.0
METHOD:PUBLISH 
X-WR-CALNAME:
BEGIN:VEVENT
DTSTART;TZID=Europe/Paris:20260422T140000
DTEND;TZID=Europe/Paris:20260422T150000
SUMMARY:Appeau à amphibiens
CATEGORIE:Stages, Ateliers et Initiations
GEO:47.31347900000000;2.25763700000000
LOCATION:Moulin Gentil\, 18330 Neuvy-sur-Barangeon\, France
URL:https://www.fest.fr/e/2383023
UID:2383023-1@fest.fr
END:VEVENT
BEGIN:VEVENT
DTSTART;TZID=Europe/Paris:20260422T160000
DTEND;TZID=Europe/Paris:20260422T170000
SUMMARY:Appeau à amphibiens
CATEGORIE:Stages, Ateliers et Initiations
GEO:47.31347900000000;2.25763700000000
LOCATION:Moulin Gentil\, 18330 Neuvy-sur-Barangeon\, France
URL:https://www.fest.fr/e/2383023
UID:2383023-2@fest.fr
END:VEVENT
END:VCALENDAR
