BEGIN:VCALENDAR
CALSCALE:GREGORIAN
VERSION:2.0
METHOD:PUBLISH 
X-WR-CALNAME:
BEGIN:VEVENT
DTSTART;TZID=Europe/Paris:20260515T100000
DTEND;TZID=Europe/Paris:20260515T110000
SUMMARY:à la rencontre des Cocardiers de Méjanes
CATEGORIE:Expositions, Visites et Découvertes
GEO:43.56995300000000;4.50620700000000
LOCATION:Manade de Méjanes\, 13200 Arles\, France
URL:https://www.fest.fr/e/2382240
UID:2382240-1@fest.fr
END:VEVENT
END:VCALENDAR
