BEGIN:VCALENDAR
CALSCALE:GREGORIAN
VERSION:2.0
METHOD:PUBLISH 
X-WR-CALNAME:
BEGIN:VEVENT
DTSTART;TZID=Europe/Paris:20260425T130000
DTEND;TZID=Europe/Paris:20260425T140000
SUMMARY:Football gaélique Championnat Bretagne masculin D3
CATEGORIE:Sports
GEO:47.66869000000000;-2.10589000000000
LOCATION:Rue du Stade\, 56350 Saint-Perreux\, France
URL:https://www.fest.fr/e/2382100
UID:2382100-1@fest.fr
END:VEVENT
END:VCALENDAR
