BEGIN:VCALENDAR
CALSCALE:GREGORIAN
VERSION:2.0
METHOD:PUBLISH 
X-WR-CALNAME:
BEGIN:VEVENT
DTSTART;TZID=Europe/Paris:20260428T050000
DTEND;TZID=Europe/Paris:20260428T060000
SUMMARY:Marché hebdomadaire de Courseulles-sur-mer
CATEGORIE:Marchés, Foires et Salons
GEO:49.32960000000000;-0.45688000000000
LOCATION:Place du Marché\, 14470 Courseulles-sur-Mer\, France
URL:https://www.fest.fr/e/2381748
UID:2381748-1@fest.fr
END:VEVENT
BEGIN:VEVENT
DTSTART;TZID=Europe/Paris:20260505T050000
DTEND;TZID=Europe/Paris:20260505T060000
SUMMARY:Marché hebdomadaire de Courseulles-sur-mer
CATEGORIE:Marchés, Foires et Salons
GEO:49.32960000000000;-0.45688000000000
LOCATION:Place du Marché\, 14470 Courseulles-sur-Mer\, France
URL:https://www.fest.fr/e/2381748
UID:2381748-2@fest.fr
END:VEVENT
BEGIN:VEVENT
DTSTART;TZID=Europe/Paris:20260512T050000
DTEND;TZID=Europe/Paris:20260512T060000
SUMMARY:Marché hebdomadaire de Courseulles-sur-mer
CATEGORIE:Marchés, Foires et Salons
GEO:49.32960000000000;-0.45688000000000
LOCATION:Place du Marché\, 14470 Courseulles-sur-Mer\, France
URL:https://www.fest.fr/e/2381748
UID:2381748-3@fest.fr
END:VEVENT
BEGIN:VEVENT
DTSTART;TZID=Europe/Paris:20260519T050000
DTEND;TZID=Europe/Paris:20260519T060000
SUMMARY:Marché hebdomadaire de Courseulles-sur-mer
CATEGORIE:Marchés, Foires et Salons
GEO:49.32960000000000;-0.45688000000000
LOCATION:Place du Marché\, 14470 Courseulles-sur-Mer\, France
URL:https://www.fest.fr/e/2381748
UID:2381748-4@fest.fr
END:VEVENT
BEGIN:VEVENT
DTSTART;TZID=Europe/Paris:20260526T050000
DTEND;TZID=Europe/Paris:20260526T060000
SUMMARY:Marché hebdomadaire de Courseulles-sur-mer
CATEGORIE:Marchés, Foires et Salons
GEO:49.32960000000000;-0.45688000000000
LOCATION:Place du Marché\, 14470 Courseulles-sur-Mer\, France
URL:https://www.fest.fr/e/2381748
UID:2381748-5@fest.fr
END:VEVENT
BEGIN:VEVENT
DTSTART;TZID=Europe/Paris:20260602T050000
DTEND;TZID=Europe/Paris:20260602T060000
SUMMARY:Marché hebdomadaire de Courseulles-sur-mer
CATEGORIE:Marchés, Foires et Salons
GEO:49.32960000000000;-0.45688000000000
LOCATION:Place du Marché\, 14470 Courseulles-sur-Mer\, France
URL:https://www.fest.fr/e/2381748
UID:2381748-6@fest.fr
END:VEVENT
BEGIN:VEVENT
DTSTART;TZID=Europe/Paris:20260609T050000
DTEND;TZID=Europe/Paris:20260609T060000
SUMMARY:Marché hebdomadaire de Courseulles-sur-mer
CATEGORIE:Marchés, Foires et Salons
GEO:49.32960000000000;-0.45688000000000
LOCATION:Place du Marché\, 14470 Courseulles-sur-Mer\, France
URL:https://www.fest.fr/e/2381748
UID:2381748-7@fest.fr
END:VEVENT
BEGIN:VEVENT
DTSTART;TZID=Europe/Paris:20260616T050000
DTEND;TZID=Europe/Paris:20260616T060000
SUMMARY:Marché hebdomadaire de Courseulles-sur-mer
CATEGORIE:Marchés, Foires et Salons
GEO:49.32960000000000;-0.45688000000000
LOCATION:Place du Marché\, 14470 Courseulles-sur-Mer\, France
URL:https://www.fest.fr/e/2381748
UID:2381748-8@fest.fr
END:VEVENT
BEGIN:VEVENT
DTSTART;TZID=Europe/Paris:20260623T050000
DTEND;TZID=Europe/Paris:20260623T060000
SUMMARY:Marché hebdomadaire de Courseulles-sur-mer
CATEGORIE:Marchés, Foires et Salons
GEO:49.32960000000000;-0.45688000000000
LOCATION:Place du Marché\, 14470 Courseulles-sur-Mer\, France
URL:https://www.fest.fr/e/2381748
UID:2381748-9@fest.fr
END:VEVENT
BEGIN:VEVENT
DTSTART;TZID=Europe/Paris:20260630T050000
DTEND;TZID=Europe/Paris:20260630T060000
SUMMARY:Marché hebdomadaire de Courseulles-sur-mer
CATEGORIE:Marchés, Foires et Salons
GEO:49.32960000000000;-0.45688000000000
LOCATION:Place du Marché\, 14470 Courseulles-sur-Mer\, France
URL:https://www.fest.fr/e/2381748
UID:2381748-10@fest.fr
END:VEVENT
BEGIN:VEVENT
DTSTART;TZID=Europe/Paris:20260707T050000
DTEND;TZID=Europe/Paris:20260707T060000
SUMMARY:Marché hebdomadaire de Courseulles-sur-mer
CATEGORIE:Marchés, Foires et Salons
GEO:49.32960000000000;-0.45688000000000
LOCATION:Place du Marché\, 14470 Courseulles-sur-Mer\, France
URL:https://www.fest.fr/e/2381748
UID:2381748-11@fest.fr
END:VEVENT
BEGIN:VEVENT
DTSTART;TZID=Europe/Paris:20260714T050000
DTEND;TZID=Europe/Paris:20260714T060000
SUMMARY:Marché hebdomadaire de Courseulles-sur-mer
CATEGORIE:Marchés, Foires et Salons
GEO:49.32960000000000;-0.45688000000000
LOCATION:Place du Marché\, 14470 Courseulles-sur-Mer\, France
URL:https://www.fest.fr/e/2381748
UID:2381748-12@fest.fr
END:VEVENT
BEGIN:VEVENT
DTSTART;TZID=Europe/Paris:20260721T050000
DTEND;TZID=Europe/Paris:20260721T060000
SUMMARY:Marché hebdomadaire de Courseulles-sur-mer
CATEGORIE:Marchés, Foires et Salons
GEO:49.32960000000000;-0.45688000000000
LOCATION:Place du Marché\, 14470 Courseulles-sur-Mer\, France
URL:https://www.fest.fr/e/2381748
UID:2381748-13@fest.fr
END:VEVENT
BEGIN:VEVENT
DTSTART;TZID=Europe/Paris:20260728T050000
DTEND;TZID=Europe/Paris:20260728T060000
SUMMARY:Marché hebdomadaire de Courseulles-sur-mer
CATEGORIE:Marchés, Foires et Salons
GEO:49.32960000000000;-0.45688000000000
LOCATION:Place du Marché\, 14470 Courseulles-sur-Mer\, France
URL:https://www.fest.fr/e/2381748
UID:2381748-14@fest.fr
END:VEVENT
BEGIN:VEVENT
DTSTART;TZID=Europe/Paris:20260804T050000
DTEND;TZID=Europe/Paris:20260804T060000
SUMMARY:Marché hebdomadaire de Courseulles-sur-mer
CATEGORIE:Marchés, Foires et Salons
GEO:49.32960000000000;-0.45688000000000
LOCATION:Place du Marché\, 14470 Courseulles-sur-Mer\, France
URL:https://www.fest.fr/e/2381748
UID:2381748-15@fest.fr
END:VEVENT
BEGIN:VEVENT
DTSTART;TZID=Europe/Paris:20260811T050000
DTEND;TZID=Europe/Paris:20260811T060000
SUMMARY:Marché hebdomadaire de Courseulles-sur-mer
CATEGORIE:Marchés, Foires et Salons
GEO:49.32960000000000;-0.45688000000000
LOCATION:Place du Marché\, 14470 Courseulles-sur-Mer\, France
URL:https://www.fest.fr/e/2381748
UID:2381748-16@fest.fr
END:VEVENT
BEGIN:VEVENT
DTSTART;TZID=Europe/Paris:20260818T050000
DTEND;TZID=Europe/Paris:20260818T060000
SUMMARY:Marché hebdomadaire de Courseulles-sur-mer
CATEGORIE:Marchés, Foires et Salons
GEO:49.32960000000000;-0.45688000000000
LOCATION:Place du Marché\, 14470 Courseulles-sur-Mer\, France
URL:https://www.fest.fr/e/2381748
UID:2381748-17@fest.fr
END:VEVENT
BEGIN:VEVENT
DTSTART;TZID=Europe/Paris:20260825T050000
DTEND;TZID=Europe/Paris:20260825T060000
SUMMARY:Marché hebdomadaire de Courseulles-sur-mer
CATEGORIE:Marchés, Foires et Salons
GEO:49.32960000000000;-0.45688000000000
LOCATION:Place du Marché\, 14470 Courseulles-sur-Mer\, France
URL:https://www.fest.fr/e/2381748
UID:2381748-18@fest.fr
END:VEVENT
BEGIN:VEVENT
DTSTART;TZID=Europe/Paris:20260901T050000
DTEND;TZID=Europe/Paris:20260901T060000
SUMMARY:Marché hebdomadaire de Courseulles-sur-mer
CATEGORIE:Marchés, Foires et Salons
GEO:49.32960000000000;-0.45688000000000
LOCATION:Place du Marché\, 14470 Courseulles-sur-Mer\, France
URL:https://www.fest.fr/e/2381748
UID:2381748-19@fest.fr
END:VEVENT
BEGIN:VEVENT
DTSTART;TZID=Europe/Paris:20260908T050000
DTEND;TZID=Europe/Paris:20260908T060000
SUMMARY:Marché hebdomadaire de Courseulles-sur-mer
CATEGORIE:Marchés, Foires et Salons
GEO:49.32960000000000;-0.45688000000000
LOCATION:Place du Marché\, 14470 Courseulles-sur-Mer\, France
URL:https://www.fest.fr/e/2381748
UID:2381748-20@fest.fr
END:VEVENT
BEGIN:VEVENT
DTSTART;TZID=Europe/Paris:20260915T050000
DTEND;TZID=Europe/Paris:20260915T060000
SUMMARY:Marché hebdomadaire de Courseulles-sur-mer
CATEGORIE:Marchés, Foires et Salons
GEO:49.32960000000000;-0.45688000000000
LOCATION:Place du Marché\, 14470 Courseulles-sur-Mer\, France
URL:https://www.fest.fr/e/2381748
UID:2381748-21@fest.fr
END:VEVENT
BEGIN:VEVENT
DTSTART;TZID=Europe/Paris:20260922T050000
DTEND;TZID=Europe/Paris:20260922T060000
SUMMARY:Marché hebdomadaire de Courseulles-sur-mer
CATEGORIE:Marchés, Foires et Salons
GEO:49.32960000000000;-0.45688000000000
LOCATION:Place du Marché\, 14470 Courseulles-sur-Mer\, France
URL:https://www.fest.fr/e/2381748
UID:2381748-22@fest.fr
END:VEVENT
BEGIN:VEVENT
DTSTART;TZID=Europe/Paris:20260929T050000
DTEND;TZID=Europe/Paris:20260929T060000
SUMMARY:Marché hebdomadaire de Courseulles-sur-mer
CATEGORIE:Marchés, Foires et Salons
GEO:49.32960000000000;-0.45688000000000
LOCATION:Place du Marché\, 14470 Courseulles-sur-Mer\, France
URL:https://www.fest.fr/e/2381748
UID:2381748-23@fest.fr
END:VEVENT
BEGIN:VEVENT
DTSTART;TZID=Europe/Paris:20261006T050000
DTEND;TZID=Europe/Paris:20261006T060000
SUMMARY:Marché hebdomadaire de Courseulles-sur-mer
CATEGORIE:Marchés, Foires et Salons
GEO:49.32960000000000;-0.45688000000000
LOCATION:Place du Marché\, 14470 Courseulles-sur-Mer\, France
URL:https://www.fest.fr/e/2381748
UID:2381748-24@fest.fr
END:VEVENT
BEGIN:VEVENT
DTSTART;TZID=Europe/Paris:20261013T050000
DTEND;TZID=Europe/Paris:20261013T060000
SUMMARY:Marché hebdomadaire de Courseulles-sur-mer
CATEGORIE:Marchés, Foires et Salons
GEO:49.32960000000000;-0.45688000000000
LOCATION:Place du Marché\, 14470 Courseulles-sur-Mer\, France
URL:https://www.fest.fr/e/2381748
UID:2381748-25@fest.fr
END:VEVENT
BEGIN:VEVENT
DTSTART;TZID=Europe/Paris:20261020T050000
DTEND;TZID=Europe/Paris:20261020T060000
SUMMARY:Marché hebdomadaire de Courseulles-sur-mer
CATEGORIE:Marchés, Foires et Salons
GEO:49.32960000000000;-0.45688000000000
LOCATION:Place du Marché\, 14470 Courseulles-sur-Mer\, France
URL:https://www.fest.fr/e/2381748
UID:2381748-26@fest.fr
END:VEVENT
BEGIN:VEVENT
DTSTART;TZID=Europe/Paris:20261027T050000
DTEND;TZID=Europe/Paris:20261027T060000
SUMMARY:Marché hebdomadaire de Courseulles-sur-mer
CATEGORIE:Marchés, Foires et Salons
GEO:49.32960000000000;-0.45688000000000
LOCATION:Place du Marché\, 14470 Courseulles-sur-Mer\, France
URL:https://www.fest.fr/e/2381748
UID:2381748-27@fest.fr
END:VEVENT
BEGIN:VEVENT
DTSTART;TZID=Europe/Paris:20261103T050000
DTEND;TZID=Europe/Paris:20261103T060000
SUMMARY:Marché hebdomadaire de Courseulles-sur-mer
CATEGORIE:Marchés, Foires et Salons
GEO:49.32960000000000;-0.45688000000000
LOCATION:Place du Marché\, 14470 Courseulles-sur-Mer\, France
URL:https://www.fest.fr/e/2381748
UID:2381748-28@fest.fr
END:VEVENT
BEGIN:VEVENT
DTSTART;TZID=Europe/Paris:20261110T050000
DTEND;TZID=Europe/Paris:20261110T060000
SUMMARY:Marché hebdomadaire de Courseulles-sur-mer
CATEGORIE:Marchés, Foires et Salons
GEO:49.32960000000000;-0.45688000000000
LOCATION:Place du Marché\, 14470 Courseulles-sur-Mer\, France
URL:https://www.fest.fr/e/2381748
UID:2381748-29@fest.fr
END:VEVENT
BEGIN:VEVENT
DTSTART;TZID=Europe/Paris:20261117T050000
DTEND;TZID=Europe/Paris:20261117T060000
SUMMARY:Marché hebdomadaire de Courseulles-sur-mer
CATEGORIE:Marchés, Foires et Salons
GEO:49.32960000000000;-0.45688000000000
LOCATION:Place du Marché\, 14470 Courseulles-sur-Mer\, France
URL:https://www.fest.fr/e/2381748
UID:2381748-30@fest.fr
END:VEVENT
BEGIN:VEVENT
DTSTART;TZID=Europe/Paris:20261124T050000
DTEND;TZID=Europe/Paris:20261124T060000
SUMMARY:Marché hebdomadaire de Courseulles-sur-mer
CATEGORIE:Marchés, Foires et Salons
GEO:49.32960000000000;-0.45688000000000
LOCATION:Place du Marché\, 14470 Courseulles-sur-Mer\, France
URL:https://www.fest.fr/e/2381748
UID:2381748-31@fest.fr
END:VEVENT
BEGIN:VEVENT
DTSTART;TZID=Europe/Paris:20261201T050000
DTEND;TZID=Europe/Paris:20261201T060000
SUMMARY:Marché hebdomadaire de Courseulles-sur-mer
CATEGORIE:Marchés, Foires et Salons
GEO:49.32960000000000;-0.45688000000000
LOCATION:Place du Marché\, 14470 Courseulles-sur-Mer\, France
URL:https://www.fest.fr/e/2381748
UID:2381748-32@fest.fr
END:VEVENT
BEGIN:VEVENT
DTSTART;TZID=Europe/Paris:20261208T050000
DTEND;TZID=Europe/Paris:20261208T060000
SUMMARY:Marché hebdomadaire de Courseulles-sur-mer
CATEGORIE:Marchés, Foires et Salons
GEO:49.32960000000000;-0.45688000000000
LOCATION:Place du Marché\, 14470 Courseulles-sur-Mer\, France
URL:https://www.fest.fr/e/2381748
UID:2381748-33@fest.fr
END:VEVENT
BEGIN:VEVENT
DTSTART;TZID=Europe/Paris:20261215T050000
DTEND;TZID=Europe/Paris:20261215T060000
SUMMARY:Marché hebdomadaire de Courseulles-sur-mer
CATEGORIE:Marchés, Foires et Salons
GEO:49.32960000000000;-0.45688000000000
LOCATION:Place du Marché\, 14470 Courseulles-sur-Mer\, France
URL:https://www.fest.fr/e/2381748
UID:2381748-34@fest.fr
END:VEVENT
BEGIN:VEVENT
DTSTART;TZID=Europe/Paris:20261222T050000
DTEND;TZID=Europe/Paris:20261222T060000
SUMMARY:Marché hebdomadaire de Courseulles-sur-mer
CATEGORIE:Marchés, Foires et Salons
GEO:49.32960000000000;-0.45688000000000
LOCATION:Place du Marché\, 14470 Courseulles-sur-Mer\, France
URL:https://www.fest.fr/e/2381748
UID:2381748-35@fest.fr
END:VEVENT
BEGIN:VEVENT
DTSTART;TZID=Europe/Paris:20261229T050000
DTEND;TZID=Europe/Paris:20261229T060000
SUMMARY:Marché hebdomadaire de Courseulles-sur-mer
CATEGORIE:Marchés, Foires et Salons
GEO:49.32960000000000;-0.45688000000000
LOCATION:Place du Marché\, 14470 Courseulles-sur-Mer\, France
URL:https://www.fest.fr/e/2381748
UID:2381748-36@fest.fr
END:VEVENT
END:VCALENDAR
