BEGIN:VCALENDAR
CALSCALE:GREGORIAN
VERSION:2.0
METHOD:PUBLISH 
X-WR-CALNAME:
BEGIN:VEVENT
DTSTART;TZID=Europe/Paris:20260605T180000
DTEND;TZID=Europe/Paris:20260605T190000
SUMMARY:Balade Nature et Patrimoine avec la LPO
CATEGORIE:Randonnées et balades
GEO:46.12940300000000;-0.66753300000000
LOCATION:Jardin végétalisé du site archéologique\, 25 bis rue des Tilleuls\, 17700 Saint-Georges-du-Bois\, France
URL:https://www.fest.fr/e/2381072
UID:2381072-1@fest.fr
END:VEVENT
END:VCALENDAR
