BEGIN:VCALENDAR
CALSCALE:GREGORIAN
VERSION:2.0
METHOD:PUBLISH 
X-WR-CALNAME:
BEGIN:VEVENT
DTSTART;TZID=Europe/Paris:20260606T103000
DTEND;TZID=Europe/Paris:20260606T113000
SUMMARY:Parcours : yoga au square Saint-Roch
CATEGORIE:Stages, Ateliers et Initiations
GEO:49.49476300000000;0.10204300000000
LOCATION:Square Saint-Roch\, Square Saint-Roch\, 76600 Le Havre\, France
URL:https://www.fest.fr/e/2380967
UID:2380967-1@fest.fr
END:VEVENT
END:VCALENDAR
