BEGIN:VCALENDAR
CALSCALE:GREGORIAN
VERSION:2.0
METHOD:PUBLISH 
X-WR-CALNAME:
BEGIN:VEVENT
DTSTART;TZID=Europe/Paris:20260531T150000
DTEND;TZID=Europe/Paris:20260531T160000
SUMMARY:Home
CATEGORIE:Spectacles et Théâtre
GEO:47.85569330000000;-3.90716200000000
LOCATION:Chapelle Saint-Fiacre
Le Cabellou\, 29900 Concarneau\, France
URL:https://www.fest.fr/e/2380602
UID:2380602-1@fest.fr
END:VEVENT
END:VCALENDAR
