BEGIN:VCALENDAR
CALSCALE:GREGORIAN
VERSION:2.0
METHOD:PUBLISH 
X-WR-CALNAME:
BEGIN:VEVENT
DTSTART;TZID=Europe/Paris:20260811T170000
DTEND;TZID=Europe/Paris:20260811T180000
SUMMARY:Fest-Noz
CATEGORIE:Fest-Noz et Fest-Deiz
GEO:48.62568000000000;-2.42116000000000
LOCATION:4 Lieu-dit La Ville Halna
La Ferme des Caps\, 22240 Plurien\, France
URL:https://www.fest.fr/e/2380461
UID:2380461-1@fest.fr
END:VEVENT
END:VCALENDAR
