BEGIN:VCALENDAR
CALSCALE:GREGORIAN
VERSION:2.0
METHOD:PUBLISH 
X-WR-CALNAME:
BEGIN:VEVENT
DTSTART;TZID=Europe/Paris:20260612T170000
DTEND;TZID=Europe/Paris:20260612T180000
SUMMARY:Play'Ben - Spécial science-fiction
CATEGORIE:Jeux et Concours
GEO:48.22442000000000;-3.96874000000000
LOCATION:14 Rue de Garsmaria
Bibliothèque\, 29190 Pleyben\, France
URL:https://www.fest.fr/e/2380328
UID:2380328-1@fest.fr
END:VEVENT
END:VCALENDAR
