BEGIN:VCALENDAR
CALSCALE:GREGORIAN
VERSION:2.0
METHOD:PUBLISH 
X-WR-CALNAME:
BEGIN:VEVENT
DTSTART;TZID=Europe/Paris:20260813T100000
DTEND;TZID=Europe/Paris:20260813T110000
SUMMARY:Atelier crêpes
CATEGORIE:Stages, Ateliers et Initiations
GEO:48.57127000000000;-2.05394000000000
LOCATION:7 Rue des Entreprises
Rozell et Spanell\, 35730 Pleurtuit\, France
URL:https://www.fest.fr/e/2379645
UID:2379645-1@fest.fr
END:VEVENT
BEGIN:VEVENT
DTSTART;TZID=Europe/Paris:20260813T140000
DTEND;TZID=Europe/Paris:20260813T150000
SUMMARY:Atelier crêpes
CATEGORIE:Stages, Ateliers et Initiations
GEO:48.57127000000000;-2.05394000000000
LOCATION:7 Rue des Entreprises
Rozell et Spanell\, 35730 Pleurtuit\, France
URL:https://www.fest.fr/e/2379645
UID:2379645-2@fest.fr
END:VEVENT
END:VCALENDAR
