BEGIN:VCALENDAR
CALSCALE:GREGORIAN
VERSION:2.0
METHOD:PUBLISH 
X-WR-CALNAME:
BEGIN:VEVENT
DTSTART;TZID=Europe/Paris:20260819T140000
DTEND;TZID=Europe/Paris:20260819T150000
SUMMARY:Douarnenez Classique
CATEGORIE:Sports
GEO:48.09322800000000;-4.32861900000000
LOCATION:59 quai de l'Yser
Maison du Nautisme\, 29100 Douarnenez\, France
URL:https://www.fest.fr/e/2379465
UID:2379465-1@fest.fr
END:VEVENT
END:VCALENDAR
