BEGIN:VCALENDAR
CALSCALE:GREGORIAN
VERSION:2.0
METHOD:PUBLISH 
X-WR-CALNAME:
BEGIN:VEVENT
DTSTART;TZID=Europe/Paris:20260412T140000
DTEND;TZID=Europe/Paris:20260412T150000
SUMMARY:Ateliers du dimanche avec Babeth Rambault
CATEGORIE:Stages, Ateliers et Initiations
GEO:48.42613000000000;-1.57507000000000
LOCATION:10 Rue de l'Eglise
Mini Lab\, 35560 Bazouges-la-Pérouse\, France
URL:https://www.fest.fr/e/2379097
UID:2379097-1@fest.fr
END:VEVENT
BEGIN:VEVENT
DTSTART;TZID=Europe/Paris:20260419T140000
DTEND;TZID=Europe/Paris:20260419T150000
SUMMARY:Ateliers du dimanche avec Babeth Rambault
CATEGORIE:Stages, Ateliers et Initiations
GEO:48.42613000000000;-1.57507000000000
LOCATION:10 Rue de l'Eglise
Mini Lab\, 35560 Bazouges-la-Pérouse\, France
URL:https://www.fest.fr/e/2379097
UID:2379097-2@fest.fr
END:VEVENT
BEGIN:VEVENT
DTSTART;TZID=Europe/Paris:20260426T140000
DTEND;TZID=Europe/Paris:20260426T150000
SUMMARY:Ateliers du dimanche avec Babeth Rambault
CATEGORIE:Stages, Ateliers et Initiations
GEO:48.42613000000000;-1.57507000000000
LOCATION:10 Rue de l'Eglise
Mini Lab\, 35560 Bazouges-la-Pérouse\, France
URL:https://www.fest.fr/e/2379097
UID:2379097-3@fest.fr
END:VEVENT
END:VCALENDAR
