BEGIN:VCALENDAR
CALSCALE:GREGORIAN
VERSION:2.0
METHOD:PUBLISH 
X-WR-CALNAME:
BEGIN:VEVENT
DTSTART;TZID=Europe/Paris:20260430T123456
DTEND;TZID=Europe/Paris:20260430T133456
SUMMARY:Yoga avec Marine Rudra Priya
CATEGORIE:Stages, Ateliers et Initiations
GEO:47.84866000000000;-3.54880000000000
LOCATION:Auberge de Toulfoën
Lieu-dit La Plaine\, 29300 Quimperlé\, France
URL:https://www.fest.fr/e/2379051
UID:2379051-1@fest.fr
END:VEVENT
END:VCALENDAR
