BEGIN:VCALENDAR
CALSCALE:GREGORIAN
VERSION:2.0
METHOD:PUBLISH 
X-WR-CALNAME:
BEGIN:VEVENT
DTSTART;TZID=Europe/Paris:20260626T100000
DTEND;TZID=Europe/Paris:20260626T110000
SUMMARY:Exposition d'Anne LAROSE
CATEGORIE:Expositions, Visites et Découvertes
GEO:48.59237540000000;-2.55187550000000
LOCATION:Promenade de la digue
Salle des Régates\, 22370 Pléneuf-Val-André\, France
URL:https://www.fest.fr/e/2378924
UID:2378924-1@fest.fr
END:VEVENT
BEGIN:VEVENT
DTSTART;TZID=Europe/Paris:20260626T143000
DTEND;TZID=Europe/Paris:20260626T153000
SUMMARY:Exposition d'Anne LAROSE
CATEGORIE:Expositions, Visites et Découvertes
GEO:48.59237540000000;-2.55187550000000
LOCATION:Promenade de la digue
Salle des Régates\, 22370 Pléneuf-Val-André\, France
URL:https://www.fest.fr/e/2378924
UID:2378924-2@fest.fr
END:VEVENT
END:VCALENDAR
