BEGIN:VCALENDAR
CALSCALE:GREGORIAN
VERSION:2.0
METHOD:PUBLISH 
X-WR-CALNAME:
BEGIN:VEVENT
DTSTART;TZID=Europe/Paris:20260327T123456
DTEND;TZID=Europe/Paris:20260327T133456
SUMMARY:MONTPELLIER, DE L’OCCUPATION À LA LIBÉRATION EN 1944
CATEGORIE:Expositions, Visites et Découvertes
GEO:43.61282000000000;3.87359000000000
LOCATION:2 Rue de l'École de Médecine\, 34000 Montpellier\, France
URL:https://www.fest.fr/e/2378667
UID:2378667-1@fest.fr
END:VEVENT
BEGIN:VEVENT
DTSTART;TZID=Europe/Paris:20260417T123456
DTEND;TZID=Europe/Paris:20260417T133456
SUMMARY:MONTPELLIER, DE L’OCCUPATION À LA LIBÉRATION EN 1944
CATEGORIE:Expositions, Visites et Découvertes
GEO:43.61282000000000;3.87359000000000
LOCATION:2 Rue de l'École de Médecine\, 34000 Montpellier\, France
URL:https://www.fest.fr/e/2378667
UID:2378667-2@fest.fr
END:VEVENT
BEGIN:VEVENT
DTSTART;TZID=Europe/Paris:20260508T123456
DTEND;TZID=Europe/Paris:20260508T133456
SUMMARY:MONTPELLIER, DE L’OCCUPATION À LA LIBÉRATION EN 1944
CATEGORIE:Expositions, Visites et Découvertes
GEO:43.61282000000000;3.87359000000000
LOCATION:2 Rue de l'École de Médecine\, 34000 Montpellier\, France
URL:https://www.fest.fr/e/2378667
UID:2378667-3@fest.fr
END:VEVENT
END:VCALENDAR
