BEGIN:VCALENDAR
CALSCALE:GREGORIAN
VERSION:2.0
METHOD:PUBLISH 
X-WR-CALNAME:
BEGIN:VEVENT
DTSTART;TZID=Europe/Paris:20260422T100000
DTEND;TZID=Europe/Paris:20260422T110000
SUMMARY:Rando Azimut and Caux
CATEGORIE:Randonnées et balades
GEO:49.72148850000000;1.11960140000000
LOCATION:21 Place du Général de Gaulle
Office de Tourisme Terroir de Caux\, 76720 Val-de-Scie\, France
URL:https://www.fest.fr/e/2378448
UID:2378448-1@fest.fr
END:VEVENT
BEGIN:VEVENT
DTSTART;TZID=Europe/Paris:20260422T140000
DTEND;TZID=Europe/Paris:20260422T150000
SUMMARY:Rando Azimut and Caux
CATEGORIE:Randonnées et balades
GEO:49.72148850000000;1.11960140000000
LOCATION:21 Place du Général de Gaulle
Office de Tourisme Terroir de Caux\, 76720 Val-de-Scie\, France
URL:https://www.fest.fr/e/2378448
UID:2378448-2@fest.fr
END:VEVENT
END:VCALENDAR
