BEGIN:VCALENDAR
CALSCALE:GREGORIAN
VERSION:2.0
METHOD:PUBLISH 
X-WR-CALNAME:
BEGIN:VEVENT
DTSTART;TZID=Europe/Paris:20260616T190000
DTEND;TZID=Europe/Paris:20260616T200000
SUMMARY:Concert
CATEGORIE:Concerts et Musique
GEO:43.62396300000000;1.43863600000000
LOCATION:Centre culturel - Théâtre des Mazades\, 10 Avenue des Mazades\, 31200 Toulouse\, France
URL:https://www.fest.fr/e/2377939
UID:2377939-1@fest.fr
END:VEVENT
END:VCALENDAR
