BEGIN:VCALENDAR
CALSCALE:GREGORIAN
VERSION:2.0
METHOD:PUBLISH 
X-WR-CALNAME:
BEGIN:VEVENT
DTSTART;TZID=Europe/Paris:20260527T140000
DTEND;TZID=Europe/Paris:20260527T150000
SUMMARY:La Constellation Bricole
CATEGORIE:Fêtes et Animations
GEO:48.49791400000000;4.94914200000000
LOCATION:Médiathèque du Val de Blaise\, Place Marie Stuart\, 52130 Wassy\, France
URL:https://www.fest.fr/e/2377688
UID:2377688-1@fest.fr
END:VEVENT
END:VCALENDAR
