BEGIN:VCALENDAR
CALSCALE:GREGORIAN
VERSION:2.0
METHOD:PUBLISH 
X-WR-CALNAME:
BEGIN:VEVENT
DTSTART;TZID=Europe/Paris:20260605T180000
DTEND;TZID=Europe/Paris:20260605T190000
SUMMARY:Récital de lectures à voix haute
CATEGORIE:Littérature
GEO:43.59370900000000;1.46616500000000
LOCATION:Médiathèque Côte Pavée\, 125 Avenue Jean Rieux\, 31400 Toulouse\, France
URL:https://www.fest.fr/e/2377650
UID:2377650-1@fest.fr
END:VEVENT
END:VCALENDAR
