BEGIN:VCALENDAR
CALSCALE:GREGORIAN
VERSION:2.0
METHOD:PUBLISH 
X-WR-CALNAME:
BEGIN:VEVENT
DTSTART;TZID=Europe/Paris:20260510T153000
DTEND;TZID=Europe/Paris:20260510T163000
SUMMARY:Les Effets M'Airs chantent les Années Tubes
CATEGORIE:Concerts et Musique
LOCATION:Salle de Convivialité\, Rue de la Mairie\, 50400 Yquelon\, France
URL:https://www.fest.fr/e/2377102
UID:2377102-1@fest.fr
END:VEVENT
END:VCALENDAR
