BEGIN:VCALENDAR
CALSCALE:GREGORIAN
VERSION:2.0
METHOD:PUBLISH 
X-WR-CALNAME:
BEGIN:VEVENT
DTSTART;TZID=Europe/Paris:20260527T150000
DTEND;TZID=Europe/Paris:20260527T160000
SUMMARY:VISITE GUIDÉE - REYNÈS
CATEGORIE:Expositions, Visites et Découvertes
GEO:42.49348920000000;2.71563300000000
LOCATION:Pont de Reynes\, 66400 Reynès\, France
URL:https://www.fest.fr/e/2377018
UID:2377018-1@fest.fr
END:VEVENT
END:VCALENDAR
