BEGIN:VCALENDAR
CALSCALE:GREGORIAN
VERSION:2.0
METHOD:PUBLISH 
X-WR-CALNAME:
BEGIN:VEVENT
DTSTART;TZID=Europe/Paris:20260516T100000
DTEND;TZID=Europe/Paris:20260516T110000
SUMMARY:Vente directe des Glaces de la Ferme
CATEGORIE:Marchés, Foires et Salons
GEO:47.79311000000000;-3.54212000000000
LOCATION:Glace de la ferme
Lieu-dit Kerliezec\, 29360 Clohars-Carnoët\, France
URL:https://www.fest.fr/e/2376907
UID:2376907-1@fest.fr
END:VEVENT
END:VCALENDAR
