BEGIN:VCALENDAR
CALSCALE:GREGORIAN
VERSION:2.0
METHOD:PUBLISH 
X-WR-CALNAME:
BEGIN:VEVENT
DTSTART;TZID=Europe/Paris:20260604T140000
DTEND;TZID=Europe/Paris:20260604T150000
SUMMARY:Visite Atelier Roger Douville
CATEGORIE:Expositions, Visites et Découvertes
GEO:49.77100000000000;0.84206000000000
LOCATION:Impasse Roger Douville\, 76560 Canville-les-Deux-Églises\, France
URL:https://www.fest.fr/e/2376546
UID:2376546-1@fest.fr
END:VEVENT
BEGIN:VEVENT
DTSTART;TZID=Europe/Paris:20260611T140000
DTEND;TZID=Europe/Paris:20260611T150000
SUMMARY:Visite Atelier Roger Douville
CATEGORIE:Expositions, Visites et Découvertes
GEO:49.77100000000000;0.84206000000000
LOCATION:Impasse Roger Douville\, 76560 Canville-les-Deux-Églises\, France
URL:https://www.fest.fr/e/2376546
UID:2376546-2@fest.fr
END:VEVENT
BEGIN:VEVENT
DTSTART;TZID=Europe/Paris:20260618T140000
DTEND;TZID=Europe/Paris:20260618T150000
SUMMARY:Visite Atelier Roger Douville
CATEGORIE:Expositions, Visites et Découvertes
GEO:49.77100000000000;0.84206000000000
LOCATION:Impasse Roger Douville\, 76560 Canville-les-Deux-Églises\, France
URL:https://www.fest.fr/e/2376546
UID:2376546-3@fest.fr
END:VEVENT
BEGIN:VEVENT
DTSTART;TZID=Europe/Paris:20260625T140000
DTEND;TZID=Europe/Paris:20260625T150000
SUMMARY:Visite Atelier Roger Douville
CATEGORIE:Expositions, Visites et Découvertes
GEO:49.77100000000000;0.84206000000000
LOCATION:Impasse Roger Douville\, 76560 Canville-les-Deux-Églises\, France
URL:https://www.fest.fr/e/2376546
UID:2376546-4@fest.fr
END:VEVENT
END:VCALENDAR
