BEGIN:VCALENDAR
CALSCALE:GREGORIAN
VERSION:2.0
METHOD:PUBLISH 
X-WR-CALNAME:
BEGIN:VEVENT
DTSTART;TZID=Europe/Paris:20260605T150000
DTEND;TZID=Europe/Paris:20260605T160000
SUMMARY:Concert du Mass Police Band
CATEGORIE:Concerts et Musique
GEO:49.24236840000000;-0.27176140000000
LOCATION:1 Avenue Major John Howard
Mémorial Pégasus\, 14860 Ranville\, France
URL:https://www.fest.fr/e/2376482
UID:2376482-1@fest.fr
END:VEVENT
END:VCALENDAR
