BEGIN:VCALENDAR
CALSCALE:GREGORIAN
VERSION:2.0
METHOD:PUBLISH 
X-WR-CALNAME:
BEGIN:VEVENT
DTSTART;TZID=Europe/Paris:20260506T100000
DTEND;TZID=Europe/Paris:20260506T110000
SUMMARY:MUba bébé
CATEGORIE:Stages, Ateliers et Initiations
GEO:50.72488700000000;3.16313800000000
LOCATION:2 rue Paul Doumer\, 59200 Tourcoing\, France
URL:https://www.fest.fr/e/2376418
UID:2376418-1@fest.fr
END:VEVENT
END:VCALENDAR
