BEGIN:VCALENDAR
CALSCALE:GREGORIAN
VERSION:2.0
METHOD:PUBLISH 
X-WR-CALNAME:
BEGIN:VEVENT
DTSTART;TZID=Europe/Paris:20260426T080000
DTEND;TZID=Europe/Paris:20260426T090000
SUMMARY:20ème Marche Populaire Internationale
CATEGORIE:Randonnées et balades
GEO:49.95342451453327;3.30025663039829
LOCATION:SALLE DES FÊTES\, Gd rue\, 02420 Joncourt\, France
URL:https://www.fest.fr/e/2376132
UID:2376132-1@fest.fr
END:VEVENT
END:VCALENDAR
