BEGIN:VCALENDAR
CALSCALE:GREGORIAN
VERSION:2.0
METHOD:PUBLISH 
X-WR-CALNAME:
BEGIN:VEVENT
DTSTART;TZID=Europe/Paris:20260417T123456
DTEND;TZID=Europe/Paris:20260417T133456
SUMMARY:Randonnée à cheval en pension complète ou à la journée aux Ecuries du Petit Roma
CATEGORIE:Randonnées et balades
GEO:43.70410400000000;4.84676000000000
LOCATION:Le Petit Roman
petite Route de Mouriès\, 13520 Maussane-les-Alpilles\, France
URL:https://www.fest.fr/e/2375973
UID:2375973-1@fest.fr
END:VEVENT
BEGIN:VEVENT
DTSTART;TZID=Europe/Paris:20260605T123456
DTEND;TZID=Europe/Paris:20260605T133456
SUMMARY:Randonnée à cheval en pension complète ou à la journée aux Ecuries du Petit Roma
CATEGORIE:Randonnées et balades
GEO:43.70410400000000;4.84676000000000
LOCATION:Le Petit Roman
petite Route de Mouriès\, 13520 Maussane-les-Alpilles\, France
URL:https://www.fest.fr/e/2375973
UID:2375973-2@fest.fr
END:VEVENT
BEGIN:VEVENT
DTSTART;TZID=Europe/Paris:20260612T123456
DTEND;TZID=Europe/Paris:20260612T133456
SUMMARY:Randonnée à cheval en pension complète ou à la journée aux Ecuries du Petit Roma
CATEGORIE:Randonnées et balades
GEO:43.70410400000000;4.84676000000000
LOCATION:Le Petit Roman
petite Route de Mouriès\, 13520 Maussane-les-Alpilles\, France
URL:https://www.fest.fr/e/2375973
UID:2375973-3@fest.fr
END:VEVENT
BEGIN:VEVENT
DTSTART;TZID=Europe/Paris:20260918T123456
DTEND;TZID=Europe/Paris:20260918T133456
SUMMARY:Randonnée à cheval en pension complète ou à la journée aux Ecuries du Petit Roma
CATEGORIE:Randonnées et balades
GEO:43.70410400000000;4.84676000000000
LOCATION:Le Petit Roman
petite Route de Mouriès\, 13520 Maussane-les-Alpilles\, France
URL:https://www.fest.fr/e/2375973
UID:2375973-4@fest.fr
END:VEVENT
END:VCALENDAR
