BEGIN:VCALENDAR
CALSCALE:GREGORIAN
VERSION:2.0
METHOD:PUBLISH 
X-WR-CALNAME:
BEGIN:VEVENT
DTSTART;TZID=Europe/Paris:20260606T100000
DTEND;TZID=Europe/Paris:20260606T110000
SUMMARY:Visite libre et escape game
CATEGORIE:Expositions, Visites et Découvertes
GEO:44.88561300000000;0.88980800000000
LOCATION:Jardins Panoramiques de Limeuil\, Place des Fossés\, 24510 Limeuil\, France
URL:https://www.fest.fr/e/2375897
UID:2375897-1@fest.fr
END:VEVENT
BEGIN:VEVENT
DTSTART;TZID=Europe/Paris:20260607T100000
DTEND;TZID=Europe/Paris:20260607T110000
SUMMARY:Visite libre et escape game
CATEGORIE:Expositions, Visites et Découvertes
GEO:44.88561300000000;0.88980800000000
LOCATION:Jardins Panoramiques de Limeuil\, Place des Fossés\, 24510 Limeuil\, France
URL:https://www.fest.fr/e/2375897
UID:2375897-2@fest.fr
END:VEVENT
END:VCALENDAR
