BEGIN:VCALENDAR
CALSCALE:GREGORIAN
VERSION:2.0
METHOD:PUBLISH 
X-WR-CALNAME:
BEGIN:VEVENT
DTSTART;TZID=Europe/Paris:20260602T093000
DTEND;TZID=Europe/Paris:20260602T103000
SUMMARY:Exposition - En avant la musique
CATEGORIE:Expositions, Visites et Découvertes
GEO:48.38088531175630;7.70247995853425
LOCATION:4 place des Meuniers\, 67150 Gerstheim\, France
URL:https://www.fest.fr/e/2375871
UID:2375871-1@fest.fr
END:VEVENT
BEGIN:VEVENT
DTSTART;TZID=Europe/Paris:20260602T100000
DTEND;TZID=Europe/Paris:20260602T110000
SUMMARY:Exposition - En avant la musique
CATEGORIE:Expositions, Visites et Découvertes
GEO:48.38088531175630;7.70247995853425
LOCATION:4 place des Meuniers\, 67150 Gerstheim\, France
URL:https://www.fest.fr/e/2375871
UID:2375871-2@fest.fr
END:VEVENT
BEGIN:VEVENT
DTSTART;TZID=Europe/Paris:20260602T140000
DTEND;TZID=Europe/Paris:20260602T150000
SUMMARY:Exposition - En avant la musique
CATEGORIE:Expositions, Visites et Découvertes
GEO:48.38088531175630;7.70247995853425
LOCATION:4 place des Meuniers\, 67150 Gerstheim\, France
URL:https://www.fest.fr/e/2375871
UID:2375871-3@fest.fr
END:VEVENT
BEGIN:VEVENT
DTSTART;TZID=Europe/Paris:20260602T150000
DTEND;TZID=Europe/Paris:20260602T160000
SUMMARY:Exposition - En avant la musique
CATEGORIE:Expositions, Visites et Découvertes
GEO:48.38088531175630;7.70247995853425
LOCATION:4 place des Meuniers\, 67150 Gerstheim\, France
URL:https://www.fest.fr/e/2375871
UID:2375871-4@fest.fr
END:VEVENT
BEGIN:VEVENT
DTSTART;TZID=Europe/Paris:20260602T150000
DTEND;TZID=Europe/Paris:20260602T160000
SUMMARY:Exposition - En avant la musique
CATEGORIE:Expositions, Visites et Découvertes
GEO:48.38088531175630;7.70247995853425
LOCATION:4 place des Meuniers\, 67150 Gerstheim\, France
URL:https://www.fest.fr/e/2375871
UID:2375871-5@fest.fr
END:VEVENT
END:VCALENDAR
