BEGIN:VCALENDAR
CALSCALE:GREGORIAN
VERSION:2.0
METHOD:PUBLISH 
X-WR-CALNAME:
BEGIN:VEVENT
DTSTART;TZID=Europe/Paris:20270408T200000
DTEND;TZID=Europe/Paris:20270408T210000
SUMMARY:Nicolas Peyrac - En Toute Liberté
CATEGORIE:Concerts et musique
GEO:47.23483949931500;6.02684869949000
LOCATION:Le Petit Kursaal\, 2, place du Théâtre\, 25000 Besançon\, France
URL:https://www.fest.fr/e/2375791
UID:2375791-1@fest.fr
END:VEVENT
END:VCALENDAR
