BEGIN:VCALENDAR
CALSCALE:GREGORIAN
VERSION:2.0
METHOD:PUBLISH 
X-WR-CALNAME:
BEGIN:VEVENT
DTSTART;TZID=Europe/Paris:20260426T100000
DTEND;TZID=Europe/Paris:20260426T110000
SUMMARY:Inauguration du Mémorial « Résistance et Déportation »
CATEGORIE:Social et solidaire
GEO:47.65102000000000;-2.08593000000000
LOCATION:Esplanade nord - gare, place Michel Macé\, 35600 Redon\, France
URL:https://www.fest.fr/e/2375734
UID:2375734-1@fest.fr
END:VEVENT
END:VCALENDAR
