BEGIN:VCALENDAR
CALSCALE:GREGORIAN
VERSION:2.0
METHOD:PUBLISH 
X-WR-CALNAME:
BEGIN:VEVENT
DTSTART;TZID=Europe/Paris:20260418T190000
DTEND;TZID=Europe/Paris:20260418T200000
SUMMARY:Spectacle équestre "Les chevaux dansent à la Bodega"
CATEGORIE:Spectacles et Théâtre
GEO:47.78154960000000;-2.10222100000000
LOCATION:Chemin de la Villebeau
Théâtre équestre de Bretagne\, 56200 La Gacilly\, France
URL:https://www.fest.fr/e/2375618
UID:2375618-1@fest.fr
END:VEVENT
END:VCALENDAR
