BEGIN:VCALENDAR
CALSCALE:GREGORIAN
VERSION:2.0
METHOD:PUBLISH 
X-WR-CALNAME:
BEGIN:VEVENT
DTSTART;TZID=Europe/Paris:20260514T180000
DTEND;TZID=Europe/Paris:20260514T190000
SUMMARY:"FEU LE LIVRE"
CATEGORIE:Spectacles et Théâtre
GEO:43.58958000000000;1.46076000000000
LOCATION:11 Boulevard Bernard Griffoul Dorval
ARCHIVES DÉPARTEMENTALES DE LA HAUTE-GARONNE\, 31400 Toulouse\, France
URL:https://www.fest.fr/e/2375514
UID:2375514-1@fest.fr
END:VEVENT
END:VCALENDAR
