BEGIN:VCALENDAR
CALSCALE:GREGORIAN
VERSION:2.0
METHOD:PUBLISH 
X-WR-CALNAME:
BEGIN:VEVENT
DTSTART;TZID=Europe/Paris:20260318T150000
DTEND;TZID=Europe/Paris:20260318T160000
SUMMARY:A nous l'Espace
CATEGORIE:Spectacles et Théâtre
GEO:50.27868100000000;3.97159000000000
LOCATION:Médiathèque municipale de Maubeuge\, Rue du Docteur Paul Jean\, 59600 Maubeuge\, France
URL:https://www.fest.fr/e/2375242
UID:2375242-1@fest.fr
END:VEVENT
END:VCALENDAR
