BEGIN:VCALENDAR
CALSCALE:GREGORIAN
VERSION:2.0
METHOD:PUBLISH 
X-WR-CALNAME:
BEGIN:VEVENT
DTSTART;TZID=Europe/Paris:20260423T190000
DTEND;TZID=Europe/Paris:20260423T200000
SUMMARY:Nage Libre - Studio Hébertot, Paris
CATEGORIE:Spectacles et théâtre
GEO:48.88207784490900;2.31918754977100
LOCATION:STUDIO HEBERTOT\, 78 BIS BD DES BATIGNOLLES\, 75017 Paris 17e\, France
URL:https://www.fest.fr/e/2375170
UID:2375170-1@fest.fr
END:VEVENT
BEGIN:VEVENT
DTSTART;TZID=Europe/Paris:20260424T190000
DTEND;TZID=Europe/Paris:20260424T200000
SUMMARY:Nage Libre - Studio Hébertot, Paris
CATEGORIE:Spectacles et théâtre
GEO:48.88207784490900;2.31918754977100
LOCATION:STUDIO HEBERTOT\, 78 BIS BD DES BATIGNOLLES\, 75017 Paris 17e\, France
URL:https://www.fest.fr/e/2375170
UID:2375170-2@fest.fr
END:VEVENT
BEGIN:VEVENT
DTSTART;TZID=Europe/Paris:20260425T190000
DTEND;TZID=Europe/Paris:20260425T200000
SUMMARY:Nage Libre - Studio Hébertot, Paris
CATEGORIE:Spectacles et théâtre
GEO:48.88207784490900;2.31918754977100
LOCATION:STUDIO HEBERTOT\, 78 BIS BD DES BATIGNOLLES\, 75017 Paris 17e\, France
URL:https://www.fest.fr/e/2375170
UID:2375170-3@fest.fr
END:VEVENT
BEGIN:VEVENT
DTSTART;TZID=Europe/Paris:20260426T170000
DTEND;TZID=Europe/Paris:20260426T180000
SUMMARY:Nage Libre - Studio Hébertot, Paris
CATEGORIE:Spectacles et théâtre
GEO:48.88207784490900;2.31918754977100
LOCATION:STUDIO HEBERTOT\, 78 BIS BD DES BATIGNOLLES\, 75017 Paris 17e\, France
URL:https://www.fest.fr/e/2375170
UID:2375170-4@fest.fr
END:VEVENT
BEGIN:VEVENT
DTSTART;TZID=Europe/Paris:20260430T190000
DTEND;TZID=Europe/Paris:20260430T200000
SUMMARY:Nage Libre - Studio Hébertot, Paris
CATEGORIE:Spectacles et théâtre
GEO:48.88207784490900;2.31918754977100
LOCATION:STUDIO HEBERTOT\, 78 BIS BD DES BATIGNOLLES\, 75017 Paris 17e\, France
URL:https://www.fest.fr/e/2375170
UID:2375170-5@fest.fr
END:VEVENT
BEGIN:VEVENT
DTSTART;TZID=Europe/Paris:20260501T190000
DTEND;TZID=Europe/Paris:20260501T200000
SUMMARY:Nage Libre - Studio Hébertot, Paris
CATEGORIE:Spectacles et théâtre
GEO:48.88207784490900;2.31918754977100
LOCATION:STUDIO HEBERTOT\, 78 BIS BD DES BATIGNOLLES\, 75017 Paris 17e\, France
URL:https://www.fest.fr/e/2375170
UID:2375170-6@fest.fr
END:VEVENT
BEGIN:VEVENT
DTSTART;TZID=Europe/Paris:20260502T190000
DTEND;TZID=Europe/Paris:20260502T200000
SUMMARY:Nage Libre - Studio Hébertot, Paris
CATEGORIE:Spectacles et théâtre
GEO:48.88207784490900;2.31918754977100
LOCATION:STUDIO HEBERTOT\, 78 BIS BD DES BATIGNOLLES\, 75017 Paris 17e\, France
URL:https://www.fest.fr/e/2375170
UID:2375170-7@fest.fr
END:VEVENT
BEGIN:VEVENT
DTSTART;TZID=Europe/Paris:20260503T170000
DTEND;TZID=Europe/Paris:20260503T180000
SUMMARY:Nage Libre - Studio Hébertot, Paris
CATEGORIE:Spectacles et théâtre
GEO:48.88207784490900;2.31918754977100
LOCATION:STUDIO HEBERTOT\, 78 BIS BD DES BATIGNOLLES\, 75017 Paris 17e\, France
URL:https://www.fest.fr/e/2375170
UID:2375170-8@fest.fr
END:VEVENT
BEGIN:VEVENT
DTSTART;TZID=Europe/Paris:20260507T190000
DTEND;TZID=Europe/Paris:20260507T200000
SUMMARY:Nage Libre - Studio Hébertot, Paris
CATEGORIE:Spectacles et théâtre
GEO:48.88207784490900;2.31918754977100
LOCATION:STUDIO HEBERTOT\, 78 BIS BD DES BATIGNOLLES\, 75017 Paris 17e\, France
URL:https://www.fest.fr/e/2375170
UID:2375170-9@fest.fr
END:VEVENT
BEGIN:VEVENT
DTSTART;TZID=Europe/Paris:20260508T190000
DTEND;TZID=Europe/Paris:20260508T200000
SUMMARY:Nage Libre - Studio Hébertot, Paris
CATEGORIE:Spectacles et théâtre
GEO:48.88207784490900;2.31918754977100
LOCATION:STUDIO HEBERTOT\, 78 BIS BD DES BATIGNOLLES\, 75017 Paris 17e\, France
URL:https://www.fest.fr/e/2375170
UID:2375170-10@fest.fr
END:VEVENT
BEGIN:VEVENT
DTSTART;TZID=Europe/Paris:20260509T190000
DTEND;TZID=Europe/Paris:20260509T200000
SUMMARY:Nage Libre - Studio Hébertot, Paris
CATEGORIE:Spectacles et théâtre
GEO:48.88207784490900;2.31918754977100
LOCATION:STUDIO HEBERTOT\, 78 BIS BD DES BATIGNOLLES\, 75017 Paris 17e\, France
URL:https://www.fest.fr/e/2375170
UID:2375170-11@fest.fr
END:VEVENT
BEGIN:VEVENT
DTSTART;TZID=Europe/Paris:20260510T170000
DTEND;TZID=Europe/Paris:20260510T180000
SUMMARY:Nage Libre - Studio Hébertot, Paris
CATEGORIE:Spectacles et théâtre
GEO:48.88207784490900;2.31918754977100
LOCATION:STUDIO HEBERTOT\, 78 BIS BD DES BATIGNOLLES\, 75017 Paris 17e\, France
URL:https://www.fest.fr/e/2375170
UID:2375170-12@fest.fr
END:VEVENT
BEGIN:VEVENT
DTSTART;TZID=Europe/Paris:20260514T190000
DTEND;TZID=Europe/Paris:20260514T200000
SUMMARY:Nage Libre - Studio Hébertot, Paris
CATEGORIE:Spectacles et théâtre
GEO:48.88207784490900;2.31918754977100
LOCATION:STUDIO HEBERTOT\, 78 BIS BD DES BATIGNOLLES\, 75017 Paris 17e\, France
URL:https://www.fest.fr/e/2375170
UID:2375170-13@fest.fr
END:VEVENT
BEGIN:VEVENT
DTSTART;TZID=Europe/Paris:20260515T190000
DTEND;TZID=Europe/Paris:20260515T200000
SUMMARY:Nage Libre - Studio Hébertot, Paris
CATEGORIE:Spectacles et théâtre
GEO:48.88207784490900;2.31918754977100
LOCATION:STUDIO HEBERTOT\, 78 BIS BD DES BATIGNOLLES\, 75017 Paris 17e\, France
URL:https://www.fest.fr/e/2375170
UID:2375170-14@fest.fr
END:VEVENT
BEGIN:VEVENT
DTSTART;TZID=Europe/Paris:20260516T190000
DTEND;TZID=Europe/Paris:20260516T200000
SUMMARY:Nage Libre - Studio Hébertot, Paris
CATEGORIE:Spectacles et théâtre
GEO:48.88207784490900;2.31918754977100
LOCATION:STUDIO HEBERTOT\, 78 BIS BD DES BATIGNOLLES\, 75017 Paris 17e\, France
URL:https://www.fest.fr/e/2375170
UID:2375170-15@fest.fr
END:VEVENT
BEGIN:VEVENT
DTSTART;TZID=Europe/Paris:20260517T170000
DTEND;TZID=Europe/Paris:20260517T180000
SUMMARY:Nage Libre - Studio Hébertot, Paris
CATEGORIE:Spectacles et théâtre
GEO:48.88207784490900;2.31918754977100
LOCATION:STUDIO HEBERTOT\, 78 BIS BD DES BATIGNOLLES\, 75017 Paris 17e\, France
URL:https://www.fest.fr/e/2375170
UID:2375170-16@fest.fr
END:VEVENT
BEGIN:VEVENT
DTSTART;TZID=Europe/Paris:20260523T190000
DTEND;TZID=Europe/Paris:20260523T200000
SUMMARY:Nage Libre - Studio Hébertot, Paris
CATEGORIE:Spectacles et théâtre
GEO:48.88207784490900;2.31918754977100
LOCATION:STUDIO HEBERTOT\, 78 BIS BD DES BATIGNOLLES\, 75017 Paris 17e\, France
URL:https://www.fest.fr/e/2375170
UID:2375170-17@fest.fr
END:VEVENT
BEGIN:VEVENT
DTSTART;TZID=Europe/Paris:20260524T170000
DTEND;TZID=Europe/Paris:20260524T180000
SUMMARY:Nage Libre - Studio Hébertot, Paris
CATEGORIE:Spectacles et théâtre
GEO:48.88207784490900;2.31918754977100
LOCATION:STUDIO HEBERTOT\, 78 BIS BD DES BATIGNOLLES\, 75017 Paris 17e\, France
URL:https://www.fest.fr/e/2375170
UID:2375170-18@fest.fr
END:VEVENT
BEGIN:VEVENT
DTSTART;TZID=Europe/Paris:20260528T190000
DTEND;TZID=Europe/Paris:20260528T200000
SUMMARY:Nage Libre - Studio Hébertot, Paris
CATEGORIE:Spectacles et théâtre
GEO:48.88207784490900;2.31918754977100
LOCATION:STUDIO HEBERTOT\, 78 BIS BD DES BATIGNOLLES\, 75017 Paris 17e\, France
URL:https://www.fest.fr/e/2375170
UID:2375170-19@fest.fr
END:VEVENT
BEGIN:VEVENT
DTSTART;TZID=Europe/Paris:20260529T190000
DTEND;TZID=Europe/Paris:20260529T200000
SUMMARY:Nage Libre - Studio Hébertot, Paris
CATEGORIE:Spectacles et théâtre
GEO:48.88207784490900;2.31918754977100
LOCATION:STUDIO HEBERTOT\, 78 BIS BD DES BATIGNOLLES\, 75017 Paris 17e\, France
URL:https://www.fest.fr/e/2375170
UID:2375170-20@fest.fr
END:VEVENT
BEGIN:VEVENT
DTSTART;TZID=Europe/Paris:20260530T190000
DTEND;TZID=Europe/Paris:20260530T200000
SUMMARY:Nage Libre - Studio Hébertot, Paris
CATEGORIE:Spectacles et théâtre
GEO:48.88207784490900;2.31918754977100
LOCATION:STUDIO HEBERTOT\, 78 BIS BD DES BATIGNOLLES\, 75017 Paris 17e\, France
URL:https://www.fest.fr/e/2375170
UID:2375170-21@fest.fr
END:VEVENT
BEGIN:VEVENT
DTSTART;TZID=Europe/Paris:20260531T170000
DTEND;TZID=Europe/Paris:20260531T180000
SUMMARY:Nage Libre - Studio Hébertot, Paris
CATEGORIE:Spectacles et théâtre
GEO:48.88207784490900;2.31918754977100
LOCATION:STUDIO HEBERTOT\, 78 BIS BD DES BATIGNOLLES\, 75017 Paris 17e\, France
URL:https://www.fest.fr/e/2375170
UID:2375170-22@fest.fr
END:VEVENT
END:VCALENDAR
