BEGIN:VCALENDAR
CALSCALE:GREGORIAN
VERSION:2.0
METHOD:PUBLISH 
X-WR-CALNAME:
BEGIN:VEVENT
DTSTART;TZID=Europe/Paris:20260328T123456
DTEND;TZID=Europe/Paris:20260328T133456
SUMMARY:Printemps des Poètes " Liberté. Force, Vive Déployée"
CATEGORIE:Littérature
GEO:43.62314500000000;6.69233100000000
LOCATION:77 Rue Comtesse de Villeneuve
Mille Clubs de Fayence
Place de l'Eglise à TOURRETTES\, 83440 Fayence\, France
URL:https://www.fest.fr/e/2375162
UID:2375162-1@fest.fr
END:VEVENT
END:VCALENDAR
