BEGIN:VCALENDAR
CALSCALE:GREGORIAN
VERSION:2.0
METHOD:PUBLISH 
X-WR-CALNAME:
BEGIN:VEVENT
DTSTART;TZID=Europe/Paris:20261205T123456
DTEND;TZID=Europe/Paris:20261205T133456
SUMMARY:Journée Nationale du Souvenir
CATEGORIE:Social et solidaire
GEO:43.45040000000000;4.42807600000000
LOCATION:Av Van Gogh
Monument aux Morts\, 13460 Saintes-Maries-de-la-Mer\, France
URL:https://www.fest.fr/e/2374677
UID:2374677-1@fest.fr
END:VEVENT
END:VCALENDAR
