BEGIN:VCALENDAR
CALSCALE:GREGORIAN
VERSION:2.0
METHOD:PUBLISH 
X-WR-CALNAME:
BEGIN:VEVENT
DTSTART;TZID=Europe/Paris:20260624T080000
DTEND;TZID=Europe/Paris:20260624T090000
SUMMARY:Fête de la Saint Jean
CATEGORIE:Fêtes et Animations
GEO:43.31392200000000;5.61244700000000
LOCATION:Prieuré Saint-Jean-de-Garguier la journée feu de la st Jean le soir dans le village
saint jean de  garguier\, 13420 Gémenos\, France
URL:https://www.fest.fr/e/2374674
UID:2374674-1@fest.fr
END:VEVENT
END:VCALENDAR
