BEGIN:VCALENDAR
CALSCALE:GREGORIAN
VERSION:2.0
METHOD:PUBLISH 
X-WR-CALNAME:
BEGIN:VEVENT
DTSTART;TZID=Europe/Paris:20260329T170000
DTEND;TZID=Europe/Paris:20260329T180000
SUMMARY:CONCERT SYMPHONIQUE - HOMMAGE AU GUITARISTE PEDRO SOLER
CATEGORIE:Concerts et Musique
GEO:42.48078090000000;3.12440440000000
LOCATION:19 Rue des Angles\, 66650 Banyuls-sur-Mer\, France
URL:https://www.fest.fr/e/2374650
UID:2374650-1@fest.fr
END:VEVENT
END:VCALENDAR
