BEGIN:VCALENDAR
CALSCALE:GREGORIAN
VERSION:2.0
METHOD:PUBLISH 
X-WR-CALNAME:
BEGIN:VEVENT
DTSTART;TZID=Europe/Paris:20260602T190000
DTEND;TZID=Europe/Paris:20260602T200000
SUMMARY:Peut-on s’entendre penser ?
CATEGORIE:Conférences, Forums et Débats
GEO:48.89575200000000;2.38797600000000
LOCATION:Cité des sciences et de l'Industrie\, 30 avenue Corentin Cariou\, 75019 Paris 19e\, France
URL:https://www.fest.fr/e/2374542
UID:2374542-1@fest.fr
END:VEVENT
END:VCALENDAR
